BEGIN:VCALENDAR
METHOD:PUBLISH
PRODID:-//Weblication CMS
VERSION:2.0
BEGIN:VEVENT
SUMMARY:Abendmahlsgottesdienst
DTSTART:20260402T190000
DTEND:20260402T190000
DESCRIPTION:Evangelische Kirchengemeinde
LOCATION:Haus Emmaus
UID:https://lorsch.de/de/veranstaltungen/termine/Abendmahlsgottesdienst.php
URL:https://lorsch.de/de/veranstaltungen/termine/Abendmahlsgottesdienst.php
END:VEVENT
END:VCALENDAR